BEGIN:VCALENDAR
VERSION:2.0
PRODID:-//SCIO Studievereniging - ECPv6.0.13.1//NONSGML v1.0//EN
CALSCALE:GREGORIAN
METHOD:PUBLISH
X-WR-CALNAME:SCIO Studievereniging
X-ORIGINAL-URL:https://sciostudievereniging.nl
X-WR-CALDESC:Evenementen voor SCIO Studievereniging
REFRESH-INTERVAL;VALUE=DURATION:PT1H
X-Robots-Tag:noindex
X-PUBLISHED-TTL:PT1H
BEGIN:VTIMEZONE
TZID:Europe/Amsterdam
BEGIN:DAYLIGHT
TZOFFSETFROM:+0100
TZOFFSETTO:+0200
TZNAME:CEST
DTSTART:20230326T010000
END:DAYLIGHT
BEGIN:STANDARD
TZOFFSETFROM:+0200
TZOFFSETTO:+0100
TZNAME:CET
DTSTART:20231029T010000
END:STANDARD
END:VTIMEZONE
BEGIN:VEVENT
DTSTART;TZID=Europe/Amsterdam:20230419T110000
DTEND;TZID=Europe/Amsterdam:20230419T130000
DTSTAMP:20260419T172033
CREATED:20230330T180312Z
LAST-MODIFIED:20230330T180634Z
UID:1836-1681902000-1681909200@sciostudievereniging.nl
SUMMARY:Open Vergadering!
DESCRIPTION:Word jij deel van het nieuwe SCIO bestuur? 🙌 \nDe Bestuursaanmelding is geopend tot 8 mei. Wij houden op woensdag 19 april een open vergadering (11:00-13:00)! Zo kun je een kijkje nemen achter de schermen bij SCIO.
URL:https://sciostudievereniging.nl/event/open-vergadering/
LOCATION:P.C. Hoofthuis\, Spuistraat 134\, Amsterdam\, Nederland
CATEGORIES:SCIO Activiteiten
END:VEVENT
END:VCALENDAR