BEGIN:VCALENDAR
VERSION:2.0
PRODID:-//SCIO Studievereniging - ECPv6.0.13.1//NONSGML v1.0//EN
CALSCALE:GREGORIAN
METHOD:PUBLISH
X-ORIGINAL-URL:https://sciostudievereniging.nl
X-WR-CALDESC:Evenementen voor SCIO Studievereniging
REFRESH-INTERVAL;VALUE=DURATION:PT1H
X-Robots-Tag:noindex
X-PUBLISHED-TTL:PT1H
BEGIN:VTIMEZONE
TZID:Europe/Amsterdam
BEGIN:DAYLIGHT
TZOFFSETFROM:+0100
TZOFFSETTO:+0200
TZNAME:CEST
DTSTART:20230326T010000
END:DAYLIGHT
BEGIN:STANDARD
TZOFFSETFROM:+0200
TZOFFSETTO:+0100
TZNAME:CET
DTSTART:20231029T010000
END:STANDARD
END:VTIMEZONE
BEGIN:VEVENT
DTSTART;TZID=Europe/Amsterdam:20230331T161500
DTEND;TZID=Europe/Amsterdam:20230331T173000
DTSTAMP:20260423T043140
CREATED:20230207T114703Z
LAST-MODIFIED:20230328T170159Z
UID:1741-1680279300-1680283800@sciostudievereniging.nl
SUMMARY:ACLC Seminar | Ivan Yuen: The effect of predictability on the duration of phrase-final syllables and pause
DESCRIPTION:Organized by the Amsterdam Center for Language and Communication! (ACLC) \n\nSpeaker: Ivan Yuen\nLocation: P.C. Hoofthuis\nRoom: 5.60\nTitle: The effect of predictability on the duration of phrase-final syllables and pause\nAbstract: The abstract can be found here.
URL:https://sciostudievereniging.nl/event/aclc-seminar-ivan-yuen-tba/
LOCATION:P.C. Hoofthuis\, Spuistraat 134\, Amsterdam\, Nederland
CATEGORIES:Activiteiten Buiten SCIO
END:VEVENT
END:VCALENDAR