BEGIN:VCALENDAR
VERSION:2.0
PRODID:-//SCIO Studievereniging - ECPv6.0.13.1//NONSGML v1.0//EN
CALSCALE:GREGORIAN
METHOD:PUBLISH
X-WR-CALNAME:SCIO Studievereniging
X-ORIGINAL-URL:https://sciostudievereniging.nl
X-WR-CALDESC:Evenementen voor SCIO Studievereniging
REFRESH-INTERVAL;VALUE=DURATION:PT1H
X-Robots-Tag:noindex
X-PUBLISHED-TTL:PT1H
BEGIN:VTIMEZONE
TZID:Europe/Amsterdam
BEGIN:DAYLIGHT
TZOFFSETFROM:+0100
TZOFFSETTO:+0200
TZNAME:CEST
DTSTART:20230326T010000
END:DAYLIGHT
BEGIN:STANDARD
TZOFFSETFROM:+0200
TZOFFSETTO:+0100
TZNAME:CET
DTSTART:20231029T010000
END:STANDARD
END:VTIMEZONE
BEGIN:VEVENT
DTSTART;TZID=Europe/Amsterdam:20230403T193000
DTEND;TZID=Europe/Amsterdam:20230403T220000
DTSTAMP:20260423T024616
CREATED:20230328T171117Z
LAST-MODIFIED:20230328T171117Z
UID:1819-1680550200-1680559200@sciostudievereniging.nl
SUMMARY:Cognitalks: Neuroscience\, Cognition\, and Beyond!
DESCRIPTION:Registration is open\, click here to reserve your spot! \nOrganized by Cognito! \nCogniTalks is an annual event organized by the student union Cognito of the University of Amsterdam. The event consists of several outstanding neuroscientists who will be sharing their inspiring and relevant research during a 15-minute-talk\, covering topics from the biology of language to human consciousness. After the talks\, you’ll have the opportunity to ask the speakers questions and maybe even discuss their ideas at the bar of Pakhuis de Zwijger. \n\nLocation: Pakhuis de Zwijger\, Piet Heinkade 179\, Amsterdam.\nTime: 19:30 – 22:00
URL:https://sciostudievereniging.nl/event/cognitalks-neuroscience-cognition-and-beyond/
LOCATION:Pakhuis de Zwijger\, Piet Heinkade 179\, Amsterdam
CATEGORIES:Activiteiten Buiten SCIO
END:VEVENT
END:VCALENDAR